BEGIN:VCALENDAR
VERSION:2.0
PRODID:-//Serre En Mouvement - ECPv6.15.20//NONSGML v1.0//EN
CALSCALE:GREGORIAN
METHOD:PUBLISH
X-WR-CALNAME:Serre En Mouvement
X-ORIGINAL-URL:https://serreenmouvement.fr
X-WR-CALDESC:Évènements pour Serre En Mouvement
REFRESH-INTERVAL;VALUE=DURATION:PT1H
X-Robots-Tag:noindex
X-PUBLISHED-TTL:PT1H
BEGIN:VTIMEZONE
TZID:Europe/Paris
BEGIN:DAYLIGHT
TZOFFSETFROM:+0100
TZOFFSETTO:+0200
TZNAME:CEST
DTSTART:20250330T010000
END:DAYLIGHT
BEGIN:STANDARD
TZOFFSETFROM:+0200
TZOFFSETTO:+0100
TZNAME:CET
DTSTART:20251026T010000
END:STANDARD
BEGIN:DAYLIGHT
TZOFFSETFROM:+0100
TZOFFSETTO:+0200
TZNAME:CEST
DTSTART:20260329T010000
END:DAYLIGHT
BEGIN:STANDARD
TZOFFSETFROM:+0200
TZOFFSETTO:+0100
TZNAME:CET
DTSTART:20261025T010000
END:STANDARD
BEGIN:DAYLIGHT
TZOFFSETFROM:+0100
TZOFFSETTO:+0200
TZNAME:CEST
DTSTART:20270328T010000
END:DAYLIGHT
BEGIN:STANDARD
TZOFFSETFROM:+0200
TZOFFSETTO:+0100
TZNAME:CET
DTSTART:20271031T010000
END:STANDARD
END:VTIMEZONE
BEGIN:VEVENT
DTSTART;TZID=Europe/Paris:20260425T100000
DTEND;TZID=Europe/Paris:20260425T180000
DTSTAMP:20260419T231843
CREATED:20260405T074818Z
LAST-MODIFIED:20260406T183629Z
UID:974-1777111200-1777140000@serreenmouvement.fr
SUMMARY:48h de l'agriculture urbaine\, Angers
DESCRIPTION:À cette occasion\, la serre sera ouverte et un atelier sera organisé à l’institut municipal d’Angers\, place Imbach. \nPlus d’informations à venir…
URL:https://serreenmouvement.fr/evenement/48h-de-lagriculture-urbaine-angers/
LOCATION:Serre En Mouvement\, 1257 route de Frémue\, Sainte-Gemmes-sur-Loire\, 49130\, France
END:VEVENT
BEGIN:VEVENT
DTSTART;TZID=Europe/Paris:20260426T100000
DTEND;TZID=Europe/Paris:20260426T180000
DTSTAMP:20260419T231843
CREATED:20260405T075400Z
LAST-MODIFIED:20260406T183731Z
UID:977-1777197600-1777226400@serreenmouvement.fr
SUMMARY:Portes ouvertes des Fermes Bio de Sainte-Gemmes-sur-Loire
DESCRIPTION:
URL:https://serreenmouvement.fr/evenement/portes-ouvertes-des-fermes-bio-de-sainte-gemmes-sur-loire-3/
LOCATION:Serre En Mouvement\, 1257 route de Frémue\, Sainte-Gemmes-sur-Loire\, 49130\, France
END:VEVENT
BEGIN:VEVENT
DTSTART;VALUE=DATE:20260429
DTEND;VALUE=DATE:20260430
DTSTAMP:20260419T231843
CREATED:20260405T075703Z
LAST-MODIFIED:20260405T075928Z
UID:984-1777420800-1777507199@serreenmouvement.fr
SUMMARY:Biocoop Pyramide
DESCRIPTION:
URL:https://serreenmouvement.fr/evenement/biocoop-pyramide/
LOCATION:Biocoop La Pyramide\, 216 route de La Pyramide\, Les Ponts-de-Cé\, 49130\, France
END:VEVENT
END:VCALENDAR